BEGIN:VCALENDAR
VERSION:2.0
PRODID:-//wp-events-plugin.com//7.2.3.1//EN
TZID:America/New_York
X-WR-TIMEZONE:America/New_York
BEGIN:VEVENT
UID:7@bethelhebrew-new.org
DTSTART;TZID=America/New_York:20260422T173000
DTEND;TZID=America/New_York:20260422T190000
DTSTAMP:20260319T180111Z
URL:https://www.bethelhebrew-new.org/events/celebrate-earth-day-in-our-cha
 pel-in-the-woods/
SUMMARY:Celebrate Earth Day in Our Chapel in the Woods
DESCRIPTION:
END:VEVENT
BEGIN:VTIMEZONE
TZID:America/New_York
X-LIC-LOCATION:America/New_York
BEGIN:DAYLIGHT
DTSTART:20260308T030000
TZOFFSETFROM:-0500
TZOFFSETTO:-0400
TZNAME:EDT
END:DAYLIGHT
END:VTIMEZONE
END:VCALENDAR